BEGIN:VCALENDAR
VERSION:2.0
PRODID:-//adriansef.org//NONSGML kigkonsult.se iCalcreator 2.30.10//
CALSCALE:GREGORIAN
METHOD:PUBLISH
UID:2ca18ae3-59f0-4dba-be40-144d98a0a1ae
X-WR-CALDESC:
X-WR-RELCALID:25a9853e9d8a5e6ae96883a0425ba8d7
X-WR-TIMEZONE:America/New_York
BEGIN:VTIMEZONE
TZID:America/New_York
BEGIN:STANDARD
TZNAME:EST
DTSTART:20251102T020000
TZOFFSETFROM:-0400
TZOFFSETTO:-0500
RDATE:20261101T020000
RDATE:20271107T020000
END:STANDARD
BEGIN:DAYLIGHT
TZNAME:EDT
DTSTART:20260308T020000
TZOFFSETFROM:-0500
TZOFFSETTO:-0400
RDATE:20270314T020000
RDATE:20280312T020000
END:DAYLIGHT
END:VTIMEZONE
BEGIN:VEVENT
UID:a203f1dd-f3ad-4df8-9b7e-31d6d1ebcc3f
DTSTAMP:20260423T115022Z
DESCRIPTION:
DTSTART;TZID=America/New_York:20261017T060000
DTEND;TZID=America/New_York:20261017T060001
LOCATION:Hills of Lenawee\, 4110 Country Club Rd\, Adrian\, MI 49221 US
SUMMARY:Class of 1976 50th Reunion
END:VEVENT
END:VCALENDAR
