BEGIN:VCALENDAR
VERSION:2.0
PRODID:-//adriansef.org//NONSGML kigkonsult.se iCalcreator 2.30.10//
CALSCALE:GREGORIAN
METHOD:PUBLISH
UID:43c31ef0-8217-4e2f-b62d-2f9afa427e93
X-WR-CALDESC:60th Class Reunion \nThe Hills of Lenawee*\n*formerly Lenawee 
 Country Club\nMore info to come...
X-WR-RELCALID:06f7a13339d8097d861796b87efd672f
X-WR-TIMEZONE:America/New_York
BEGIN:VTIMEZONE
TZID:America/New_York
BEGIN:STANDARD
TZNAME:EST
DTSTART:20251102T020000
TZOFFSETFROM:-0400
TZOFFSETTO:-0500
RDATE:20261101T020000
RDATE:20271107T020000
END:STANDARD
BEGIN:DAYLIGHT
TZNAME:EDT
DTSTART:20260308T020000
TZOFFSETFROM:-0500
TZOFFSETTO:-0400
RDATE:20270314T020000
END:DAYLIGHT
END:VTIMEZONE
BEGIN:VEVENT
UID:af430b4d-2a9f-42da-8a7b-c2b535933629
DTSTAMP:20260423T092049Z
DESCRIPTION:60th Class Reunion \nThe Hills of Lenawee*\n*formerly Lenawee C
 ountry Club\nMore info to come...
DTSTART;TZID=America/New_York:20260822T060000
DTEND;TZID=America/New_York:20260822T060001
LOCATION:4110 Country Club Rd\, Adrian\, MI 49221 US
SUMMARY:Class of 1966 Reunion
END:VEVENT
END:VCALENDAR
