BEGIN:VCALENDAR
VERSION:2.0
PRODID:-//adriansef.org//NONSGML kigkonsult.se iCalcreator 2.30.10//
CALSCALE:GREGORIAN
METHOD:PUBLISH
UID:4e36c61a-7a13-4c58-9799-6e5d44c29ae7
X-WR-CALDESC:40th Reunion\nThe Eagles in Adrian\nMore info to come...
X-WR-RELCALID:e0421095746b18e344c4ae04f0791d6b
X-WR-TIMEZONE:America/New_York
BEGIN:VTIMEZONE
TZID:America/New_York
BEGIN:STANDARD
TZNAME:EST
DTSTART:20251102T020000
TZOFFSETFROM:-0400
TZOFFSETTO:-0500
RDATE:20261101T020000
RDATE:20271107T020000
END:STANDARD
BEGIN:DAYLIGHT
TZNAME:EDT
DTSTART:20260308T020000
TZOFFSETFROM:-0500
TZOFFSETTO:-0400
RDATE:20270314T020000
END:DAYLIGHT
END:VTIMEZONE
BEGIN:VEVENT
UID:6e9019c5-f5ba-477e-8871-273085e8f614
DTSTAMP:20260423T090327Z
DESCRIPTION:40th Reunion\nThe Eagles in Adrian\nMore info to come...
DTSTART;TZID=America/New_York:20260801T060000
DTEND;TZID=America/New_York:20260801T060001
LOCATION:2570 W Beecher Rd\, Adrian\, MI 49221 US
SUMMARY:Class of 1986 Reunion
END:VEVENT
END:VCALENDAR
