BEGIN:VCALENDAR
VERSION:2.0
PRODID:-//adriansef.org//NONSGML kigkonsult.se iCalcreator 2.30.10//
CALSCALE:GREGORIAN
METHOD:PUBLISH
UID:134edc46-1d95-4d64-9f9f-e9484464bed9
X-WR-CALDESC:Celebrate the Class of 2026!
X-WR-RELCALID:e674eb3b64dc1b44b01453271c736ef3
X-WR-TIMEZONE:America/New_York
BEGIN:VTIMEZONE
TZID:America/New_York
BEGIN:STANDARD
TZNAME:EST
DTSTART:20251102T020000
TZOFFSETFROM:-0400
TZOFFSETTO:-0500
RDATE:20261101T020000
RDATE:20271107T020000
END:STANDARD
BEGIN:DAYLIGHT
TZNAME:EDT
DTSTART:20260308T020000
TZOFFSETFROM:-0500
TZOFFSETTO:-0400
RDATE:20270314T020000
END:DAYLIGHT
END:VTIMEZONE
BEGIN:VEVENT
UID:5f9cecea-a817-4687-8065-d0df5d2b35e8
DTSTAMP:20260423T052602Z
DESCRIPTION:Celebrate the Class of 2026!
DTSTART;TZID=America/New_York:20260531T140000
DTEND;TZID=America/New_York:20260531T150000
LOCATION:Maple Stadium\, 200 Dawes Ave\, Adrian\, MI 49221 US
SUMMARY:AHS Graduation
END:VEVENT
END:VCALENDAR
