BEGIN:VCALENDAR
VERSION:2.0
PRODID:-//adriansef.org//NONSGML kigkonsult.se iCalcreator 2.30.10//
CALSCALE:GREGORIAN
METHOD:PUBLISH
UID:991fbd49-f34a-4c60-93f1-163e53fd61b3
X-WR-CALDESC:Please join the Adrian Schools Educational Foundation for our 
 Opening Night Reception for the AHS production of Hadestown. Your ticket w
 ill include entrance into the show as well as a pre-show reception with de
 licious hors d'oeuvres and a sneak peak at the cast. Proceeds benefit the 
 classroom grant program.
X-WR-RELCALID:9fad5157edce69c99f3e879afaeab37a
X-WR-TIMEZONE:America/New_York
BEGIN:VTIMEZONE
TZID:America/New_York
BEGIN:STANDARD
TZNAME:EST
DTSTART:20251102T020000
TZOFFSETFROM:-0400
TZOFFSETTO:-0500
RDATE:20261101T020000
END:STANDARD
BEGIN:DAYLIGHT
TZNAME:EDT
DTSTART:20260308T020000
TZOFFSETFROM:-0500
TZOFFSETTO:-0400
RDATE:20270314T020000
END:DAYLIGHT
END:VTIMEZONE
BEGIN:VEVENT
UID:a1b44793-01c6-4b23-8905-e50ef96b0434
DTSTAMP:20260423T041135Z
DESCRIPTION:Please join the Adrian Schools Educational Foundation for our O
 pening Night Reception for the AHS production of Hadestown. Your ticket wi
 ll include entrance into the show as well as a pre-show reception with del
 icious hors d'oeuvres and a sneak peak at the cast. Proceeds benefit the c
 lassroom grant program.
DTSTART;TZID=America/New_York:20260415T183000
DTEND;TZID=America/New_York:20260415T193000
LOCATION:Adrian High School PAC\, 785 Riverside Ave\, Adrian\, MI 49221 US
SUMMARY:Spring Musical Reception: Hadestown
END:VEVENT
END:VCALENDAR
