BEGIN:VCALENDAR
VERSION:2.0
PRODID:-//adriansef.org//NONSGML kigkonsult.se iCalcreator 2.30.10//
CALSCALE:GREGORIAN
METHOD:PUBLISH
UID:e800c68a-6b00-4d7b-b035-3cfe76c2a094
X-WR-CALDESC:Come celebrate the 50th anniversary of Matt Harpst and Matt He
 rmes' 1975\, 10\,000 Mile bicycle journey around the United States. Come r
 eminisce as Matt and Matt revisit their historic trek around our country!
X-WR-RELCALID:5bd9ebd01b5a76fac45afa09324c82c0
X-WR-TIMEZONE:America/New_York
BEGIN:VTIMEZONE
TZID:America/New_York
BEGIN:STANDARD
TZNAME:EST
DTSTART:20241103T020000
TZOFFSETFROM:-0400
TZOFFSETTO:-0500
RDATE:20251102T020000
RDATE:20261101T020000
END:STANDARD
BEGIN:DAYLIGHT
TZNAME:EDT
DTSTART:20250309T020000
TZOFFSETFROM:-0500
TZOFFSETTO:-0400
RDATE:20260308T020000
RDATE:20270314T020000
END:DAYLIGHT
END:VTIMEZONE
BEGIN:VEVENT
UID:98f2cd67-dbeb-4ce4-afa0-c0712230f4d2
DTSTAMP:20260423T134550Z
DESCRIPTION:Come celebrate the 50th anniversary of Matt Harpst and Matt Her
 mes' 1975\, 10\,000 Mile bicycle journey around the United States. Come re
 minisce as Matt and Matt revisit their historic trek around our country!
DTSTART;TZID=America/New_York:20250927T140000
DTEND;TZID=America/New_York:20250927T163000
LOCATION:Lenawee Historical Society\, 110 E Church St\, Adrian\, MI 49221 U
 S
SUMMARY:Matt Hermes & Matt Harpst ('73) 10\,000 Mile Bike Ride Presentation
END:VEVENT
END:VCALENDAR
