BEGIN:VCALENDAR
VERSION:2.0
PRODID:-//adriansef.org//NONSGML kigkonsult.se iCalcreator 2.30.10//
CALSCALE:GREGORIAN
METHOD:PUBLISH
UID:7465fa43-0cc4-44e0-8cea-89f9cf85d83b
X-WR-CALDESC:
X-WR-RELCALID:2f2635806d2253f83209a1c83090dc0a
X-WR-TIMEZONE:America/New_York
BEGIN:VTIMEZONE
TZID:America/New_York
BEGIN:STANDARD
TZNAME:EST
DTSTART:20241103T020000
TZOFFSETFROM:-0400
TZOFFSETTO:-0500
RDATE:20251102T020000
RDATE:20261101T020000
END:STANDARD
BEGIN:DAYLIGHT
TZNAME:EDT
DTSTART:20250309T020000
TZOFFSETFROM:-0500
TZOFFSETTO:-0400
RDATE:20260308T020000
RDATE:20270314T020000
END:DAYLIGHT
END:VTIMEZONE
BEGIN:VEVENT
UID:83e5767c-f92a-4d56-8c0d-635e7b92aab8
DTSTAMP:20260423T134051Z
DESCRIPTION:
DTSTART;TZID=America/New_York:20250926T090000
DTEND;TZID=America/New_York:20250927T230000
LOCATION:
SUMMARY:Class of 1970 Reunion
END:VEVENT
END:VCALENDAR
