BEGIN:VCALENDAR
VERSION:2.0
PRODID:-//adriansef.org//NONSGML kigkonsult.se iCalcreator 2.30.10//
CALSCALE:GREGORIAN
METHOD:PUBLISH
UID:955da99d-38e0-4ab9-97bd-17f97cdf27b3
X-WR-CALDESC:We will be providing light appetizers and dessert. Cash bar. $
 15/person.\nDon't forget about the Homecoming football on Friday the 19th!
  Go Maples!!\nThere is also an AHS tour on Saturday morning at 10:00. Meet
  @ main entrance by the bell.
X-WR-RELCALID:e1a109b8868695d53d7b0f506fbd8080
X-WR-TIMEZONE:America/New_York
BEGIN:VTIMEZONE
TZID:America/New_York
BEGIN:STANDARD
TZNAME:EST
DTSTART:20241103T020000
TZOFFSETFROM:-0400
TZOFFSETTO:-0500
RDATE:20251102T020000
RDATE:20261101T020000
END:STANDARD
BEGIN:DAYLIGHT
TZNAME:EDT
DTSTART:20250309T020000
TZOFFSETFROM:-0500
TZOFFSETTO:-0400
RDATE:20260308T020000
RDATE:20270314T020000
END:DAYLIGHT
END:VTIMEZONE
BEGIN:VEVENT
UID:df21b61d-8ad0-4fa5-8184-e0011c72cffa
DTSTAMP:20260423T134744Z
DESCRIPTION:We will be providing light appetizers and dessert. Cash bar. $1
 5/person.\nDon't forget about the Homecoming football on Friday the 19th! 
 Go Maples!!\nThere is also an AHS tour on Saturday morning at 10:00. Meet 
 @ main entrance by the bell.
DTSTART;TZID=America/New_York:20250920T190000
DTEND;TZID=America/New_York:20250920T220000
LOCATION:ZZs\, 520 College Ave\, Adrian\, MI 49221 US
SUMMARY:Class of 1995 Reunion
END:VEVENT
END:VCALENDAR
