BEGIN:VCALENDAR
VERSION:2.0
PRODID:-//adriansef.org//NONSGML kigkonsult.se iCalcreator 2.30.10//
CALSCALE:GREGORIAN
METHOD:PUBLISH
UID:9915d258-ffaf-479c-a375-bd0a13e28a08
X-WR-CALDESC:Be sure to find a spot to enjoy the AHS Homecoming parade! It 
 starts in front of AHS on Riverside\, heads east to Springbrook Ave\, turn
 s south\, continues on down River/Race St\, turns west on Maumee and then 
 north on McKenzie back to AHS.
X-WR-RELCALID:897376d6690ad42d4c45b2a18baef93d
X-WR-TIMEZONE:America/New_York
BEGIN:VTIMEZONE
TZID:America/New_York
BEGIN:STANDARD
TZNAME:EST
DTSTART:20241103T020000
TZOFFSETFROM:-0400
TZOFFSETTO:-0500
RDATE:20251102T020000
RDATE:20261101T020000
END:STANDARD
BEGIN:DAYLIGHT
TZNAME:EDT
DTSTART:20250309T020000
TZOFFSETFROM:-0500
TZOFFSETTO:-0400
RDATE:20260308T020000
RDATE:20270314T020000
END:DAYLIGHT
END:VTIMEZONE
BEGIN:VEVENT
UID:b7d56d59-bf04-4920-91d2-b31fe047f1b7
DTSTAMP:20260423T134351Z
DESCRIPTION:Be sure to find a spot to enjoy the AHS Homecoming parade! It s
 tarts in front of AHS on Riverside\, heads east to Springbrook Ave\, turns
  south\, continues on down River/Race St\, turns west on Maumee and then n
 orth on McKenzie back to AHS.
DTSTART;TZID=America/New_York:20250919T130000
DTEND;TZID=America/New_York:20250919T140000
LOCATION:
SUMMARY:Homecoming Parade
END:VEVENT
END:VCALENDAR
