BEGIN:VCALENDAR
VERSION:2.0
PRODID:-//adriansef.org//NONSGML kigkonsult.se iCalcreator 2.30.10//
CALSCALE:GREGORIAN
METHOD:PUBLISH
UID:f25949f1-3aad-4958-809a-52d4467ca8b3
X-WR-CALDESC:Join us at Maple Stadium to cheer on the Maples as they face t
 he Pinckney Pirates. Stop by the Alumni tent to see old friends and enjoy 
 a donut and cider.
X-WR-RELCALID:b34a95875d2018e0ed03678f07b164da
X-WR-TIMEZONE:America/New_York
BEGIN:VTIMEZONE
TZID:America/New_York
BEGIN:STANDARD
TZNAME:EST
DTSTART:20241103T020000
TZOFFSETFROM:-0400
TZOFFSETTO:-0500
RDATE:20251102T020000
RDATE:20261101T020000
END:STANDARD
BEGIN:DAYLIGHT
TZNAME:EDT
DTSTART:20250309T020000
TZOFFSETFROM:-0500
TZOFFSETTO:-0400
RDATE:20260308T020000
RDATE:20270314T020000
END:DAYLIGHT
END:VTIMEZONE
BEGIN:VEVENT
UID:9d2db8cd-7477-4973-b0e8-327dbfe45559
DTSTAMP:20260423T132925Z
DESCRIPTION:Join us at Maple Stadium to cheer on the Maples as they face th
 e Pinckney Pirates. Stop by the Alumni tent to see old friends and enjoy a
  donut and cider.
DTSTART;TZID=America/New_York:20250919T190000
DTEND;TZID=America/New_York:20250919T210000
LOCATION:Maple Stadium\, 200 Dawes Ave\, Adrian\, MI 49221 US
SUMMARY:Homecoming Football Game
END:VEVENT
END:VCALENDAR
