BEGIN:VCALENDAR
VERSION:2.0
PRODID:-//adriansef.org//NONSGML kigkonsult.se iCalcreator 2.30.10//
CALSCALE:GREGORIAN
METHOD:PUBLISH
UID:9ecf219a-9300-492c-8202-37be0cc3d499
X-WR-CALDESC:Join your classmates for a tailgate at the Homecoming football
  game!
X-WR-RELCALID:18e8ae5155a49e87d74f5fa0276a893b
X-WR-TIMEZONE:America/New_York
BEGIN:VTIMEZONE
TZID:America/New_York
BEGIN:STANDARD
TZNAME:EST
DTSTART:20241103T020000
TZOFFSETFROM:-0400
TZOFFSETTO:-0500
RDATE:20251102T020000
RDATE:20261101T020000
END:STANDARD
BEGIN:DAYLIGHT
TZNAME:EDT
DTSTART:20250309T020000
TZOFFSETFROM:-0500
TZOFFSETTO:-0400
RDATE:20260308T020000
RDATE:20270314T020000
END:DAYLIGHT
END:VTIMEZONE
BEGIN:VEVENT
UID:0c7be819-f756-407a-b4c5-cf1eb051d67a
DTSTAMP:20260423T132435Z
DESCRIPTION:Join your classmates for a tailgate at the Homecoming football 
 game!
DTSTART;TZID=America/New_York:20250919T183000
DTEND;TZID=America/New_York:20250919T220000
LOCATION:Maple Stadium\, 200 Dawes Ave\, Adrian\, MI 49221 US
SUMMARY:Class of 2005 Reunion
END:VEVENT
END:VCALENDAR
