BEGIN:VCALENDAR
VERSION:2.0
PRODID:-//adriansef.org//NONSGML kigkonsult.se iCalcreator 2.30.10//
CALSCALE:GREGORIAN
METHOD:PUBLISH
UID:3bcffff9-9d87-4357-b8c0-f8ae01c644c1
X-WR-CALDESC:Join us as we celebrate this year's OUTSTANDING alumni\, teach
 ers & mentors. In addition we will also recognize Kristin Youngs Nelson ('
 67) and Jan VanBuren ('83) as Adrian School Educational Foundation trustee
 s emeriti.\n\nThe program begins at 7:00 and there will be a dessert recep
 tion at the conclusion of the program.
X-WR-RELCALID:0c2476a0f4b9f5d6df6efdf031c49f90
X-WR-TIMEZONE:America/New_York
BEGIN:VTIMEZONE
TZID:America/New_York
BEGIN:STANDARD
TZNAME:EST
DTSTART:20241103T020000
TZOFFSETFROM:-0400
TZOFFSETTO:-0500
RDATE:20251102T020000
RDATE:20261101T020000
END:STANDARD
BEGIN:DAYLIGHT
TZNAME:EDT
DTSTART:20250309T020000
TZOFFSETFROM:-0500
TZOFFSETTO:-0400
RDATE:20260308T020000
RDATE:20270314T020000
END:DAYLIGHT
END:VTIMEZONE
BEGIN:VEVENT
UID:79648e54-f704-4b0c-92a6-f0c60bbdbd80
DTSTAMP:20260423T132615Z
DESCRIPTION:Join us as we celebrate this year's OUTSTANDING alumni\, teache
 rs & mentors. In addition we will also recognize Kristin Youngs Nelson ('6
 7) and Jan VanBuren ('83) as Adrian School Educational Foundation trustees
  emeriti.\n\nThe program begins at 7:00 and there will be a dessert recept
 ion at the conclusion of the program.
DTSTART;TZID=America/New_York:20250918T190000
DTEND;TZID=America/New_York:20250918T210000
LOCATION:AHS Performing Arts Center\, 785 Riverside Ave\, Adrian\, MI 49221
  US
SUMMARY:Outstanding Alumni\, Teacher & Mentor Awards
END:VEVENT
END:VCALENDAR
