BEGIN:VCALENDAR
VERSION:2.0
PRODID:-//adriansef.org//NONSGML kigkonsult.se iCalcreator 2.30.10//
CALSCALE:GREGORIAN
METHOD:PUBLISH
UID:ac820a84-f66e-4443-bb18-fc7db863a7b0
X-WR-CALDESC:
X-WR-RELCALID:5d6d17e300715e92f4e2589e5d19f36d
X-WR-TIMEZONE:America/New_York
BEGIN:VTIMEZONE
TZID:America/New_York
BEGIN:STANDARD
TZNAME:EST
DTSTART:20241103T020000
TZOFFSETFROM:-0400
TZOFFSETTO:-0500
RDATE:20251102T020000
END:STANDARD
BEGIN:DAYLIGHT
TZNAME:EDT
DTSTART:20240310T020000
TZOFFSETFROM:-0500
TZOFFSETTO:-0400
RDATE:20250309T020000
RDATE:20260308T020000
END:DAYLIGHT
END:VTIMEZONE
BEGIN:VEVENT
UID:7f8269f6-d8c9-469d-a56e-644d1f3176f1
DTSTAMP:20260424T143254Z
DESCRIPTION:
DTSTART;TZID=America/New_York:20241228T150000
DTEND;TZID=America/New_York:20241228T180000
LOCATION:108 W Maumee St\, Adrian\, MI 49221 US
SUMMARY:Class of 2014 reunion
END:VEVENT
END:VCALENDAR
