BEGIN:VCALENDAR
VERSION:2.0
PRODID:-//adriansef.org//NONSGML kigkonsult.se iCalcreator 2.30.10//
CALSCALE:GREGORIAN
METHOD:PUBLISH
UID:2f678759-8770-4a83-865f-c02deb00cde8
X-WR-CALDESC:Let's meet up with our classmates again!\nClass president\, Fr
 itz Fisher is hosting us for a get together! We will have a separate dinin
 g area and will be ordering from the menu.\nHope to see you there!
X-WR-RELCALID:7e4f82a73b5148bf0f7dfd4655520daa
X-WR-TIMEZONE:America/New_York
BEGIN:VTIMEZONE
TZID:America/New_York
BEGIN:STANDARD
TZNAME:EST
DTSTART:20231105T020000
TZOFFSETFROM:-0400
TZOFFSETTO:-0500
RDATE:20241103T020000
RDATE:20251102T020000
END:STANDARD
BEGIN:DAYLIGHT
TZNAME:EDT
DTSTART:20240310T020000
TZOFFSETFROM:-0500
TZOFFSETTO:-0400
RDATE:20250309T020000
RDATE:20260308T020000
END:DAYLIGHT
END:VTIMEZONE
BEGIN:VEVENT
UID:7b58ebef-03b0-4b53-9b91-3bc3b91a33e7
DTSTAMP:20260424T044410Z
DESCRIPTION:Let's meet up with our classmates again!\nClass president\, Fri
 tz Fisher is hosting us for a get together! We will have a separate dining
  area and will be ordering from the menu.\nHope to see you there!
DTSTART;TZID=America/New_York:20241025T120000
DTEND;TZID=America/New_York:20241025T150000
LOCATION:ZZ's Bar & Grill @ Lenawee Rec\, 520 College Ave\, Adrian\, MI 492
 21 US
SUMMARY:Class of 1959 Reunion
END:VEVENT
END:VCALENDAR
