BEGIN:VCALENDAR
VERSION:2.0
PRODID:-//adriansef.org//NONSGML kigkonsult.se iCalcreator 2.30.10//
CALSCALE:GREGORIAN
METHOD:PUBLISH
UID:1f2fa754-918d-4bce-acce-d217bb3e5120
X-WR-CALDESC:Follow the Facebook page for info!
X-WR-RELCALID:b404b94b7101e69d65b4296b0f535dd1
X-WR-TIMEZONE:America/New_York
BEGIN:VTIMEZONE
TZID:America/New_York
BEGIN:STANDARD
TZNAME:EST
DTSTART:20231105T020000
TZOFFSETFROM:-0400
TZOFFSETTO:-0500
RDATE:20241103T020000
RDATE:20251102T020000
END:STANDARD
BEGIN:DAYLIGHT
TZNAME:EDT
DTSTART:20240310T020000
TZOFFSETFROM:-0500
TZOFFSETTO:-0400
RDATE:20250309T020000
RDATE:20260308T020000
END:DAYLIGHT
END:VTIMEZONE
BEGIN:VEVENT
UID:d0c9d9d4-08de-4934-b5bf-21f80e62f64f
DTSTAMP:20260424T044732Z
DESCRIPTION:Follow the Facebook page for info!
DTSTART;TZID=America/New_York:20241005T060000
DTEND;TZID=America/New_York:20241005T060001
LOCATION:Hills of Lenawee\, 4110 Country Club Rd\, Adrian\, MI 49221 US
SUMMARY:Class of 1969 Reunion
END:VEVENT
END:VCALENDAR
