BEGIN:VCALENDAR
VERSION:2.0
PRODID:-//adriansef.org//NONSGML kigkonsult.se iCalcreator 2.30.10//
CALSCALE:GREGORIAN
METHOD:PUBLISH
UID:55a3fad0-fb53-40b1-8733-8ad2ef6b5910
X-WR-CALDESC:Friday: tailgate at the Homecoming football game\nSaturday: Ca
 mp Sequoia
X-WR-RELCALID:d59be3cca31955eb6890051979e6f7fc
X-WR-TIMEZONE:America/New_York
BEGIN:VTIMEZONE
TZID:America/New_York
BEGIN:STANDARD
TZNAME:EST
DTSTART:20231105T020000
TZOFFSETFROM:-0400
TZOFFSETTO:-0500
RDATE:20241103T020000
RDATE:20251102T020000
END:STANDARD
BEGIN:DAYLIGHT
TZNAME:EDT
DTSTART:20240310T020000
TZOFFSETFROM:-0500
TZOFFSETTO:-0400
RDATE:20250309T020000
RDATE:20260308T020000
END:DAYLIGHT
END:VTIMEZONE
BEGIN:VEVENT
UID:daa26d7a-de96-4a13-88b7-eda163c96b4c
DTSTAMP:20260424T060632Z
DESCRIPTION:Friday: tailgate at the Homecoming football game\nSaturday: Cam
 p Sequoia
DTSTART;TZID=America/New_York:20240913T060000
DTEND;TZID=America/New_York:20240914T060001
LOCATION:Camp Sequoia\, Gady Rd\, Adrian\, MI 49221 US
SUMMARY:Class of 1979 Reunion
END:VEVENT
END:VCALENDAR
