BEGIN:VCALENDAR
VERSION:2.0
PRODID:-//adriansef.org//NONSGML kigkonsult.se iCalcreator 2.30.10//
CALSCALE:GREGORIAN
METHOD:PUBLISH
UID:72e60d2d-70c9-4d7e-b3b0-2fa0362b8265
X-WR-CALDESC:Join us as we celebrate this year's Outstanding Alumni & Outst
 anding Teachers/Mentors!
X-WR-RELCALID:1b449425982f4f16e1f0bd60b746cf12
X-WR-TIMEZONE:America/New_York
BEGIN:VTIMEZONE
TZID:America/New_York
BEGIN:STANDARD
TZNAME:EST
DTSTART:20231105T020000
TZOFFSETFROM:-0400
TZOFFSETTO:-0500
RDATE:20241103T020000
RDATE:20251102T020000
END:STANDARD
BEGIN:DAYLIGHT
TZNAME:EDT
DTSTART:20240310T020000
TZOFFSETFROM:-0500
TZOFFSETTO:-0400
RDATE:20250309T020000
RDATE:20260308T020000
END:DAYLIGHT
END:VTIMEZONE
BEGIN:VEVENT
UID:de8d56db-a2c0-459f-aca2-957be5217b20
DTSTAMP:20260424T061036Z
DESCRIPTION:Join us as we celebrate this year's Outstanding Alumni & Outsta
 nding Teachers/Mentors!
DTSTART;TZID=America/New_York:20240912T180000
DTEND;TZID=America/New_York:20240912T210000
LOCATION:AHS Performing Arts Center\, 785 Riverside Ave\, Adrian\, MI 49221
  US
SUMMARY:Outstanding Awards Program
END:VEVENT
END:VCALENDAR
