BEGIN:VCALENDAR
VERSION:2.0
PRODID:-//adriansef.org//NONSGML kigkonsult.se iCalcreator 2.30.10//
CALSCALE:GREGORIAN
METHOD:PUBLISH
UID:e34a19b6-b807-4d6f-807c-9242751d4398
X-WR-CALDESC:
X-WR-RELCALID:c635eb212511c19fb7daafd0b281ef04
X-WR-TIMEZONE:America/New_York
BEGIN:VTIMEZONE
TZID:America/New_York
BEGIN:STANDARD
TZNAME:EST
DTSTART:20231105T020000
TZOFFSETFROM:-0400
TZOFFSETTO:-0500
RDATE:20241103T020000
RDATE:20251102T020000
END:STANDARD
BEGIN:DAYLIGHT
TZNAME:EDT
DTSTART:20240310T020000
TZOFFSETFROM:-0500
TZOFFSETTO:-0400
RDATE:20250309T020000
RDATE:20260308T020000
END:DAYLIGHT
END:VTIMEZONE
BEGIN:VEVENT
UID:7a42d583-0872-4f0c-95ea-33e234ea3d5e
DTSTAMP:20260424T055821Z
DESCRIPTION:
DTSTART;TZID=America/New_York:20240909T060000
DTEND;TZID=America/New_York:20240913T060001
LOCATION:Adrian High School\, 785 Riverside Ave\, Adrian\, MI 49221 US
SUMMARY:Homecoming Week!
END:VEVENT
END:VCALENDAR
