BEGIN:VCALENDAR
VERSION:2.0
PRODID:-//adriansef.org//NONSGML kigkonsult.se iCalcreator 2.30.10//
CALSCALE:GREGORIAN
METHOD:PUBLISH
UID:2f5a7a2a-3629-46c8-875b-23e6ed29c83c
X-WR-CALDESC:Party in the barn! What could possibly go wrong? More details 
 to come...watch our facebook page!
X-WR-RELCALID:f5c88bfa661153e4e3a976706a27a32f
X-WR-TIMEZONE:America/New_York
BEGIN:VTIMEZONE
TZID:America/New_York
BEGIN:STANDARD
TZNAME:EST
DTSTART:20231105T020000
TZOFFSETFROM:-0400
TZOFFSETTO:-0500
RDATE:20241103T020000
RDATE:20251102T020000
END:STANDARD
BEGIN:DAYLIGHT
TZNAME:EDT
DTSTART:20240310T020000
TZOFFSETFROM:-0500
TZOFFSETTO:-0400
RDATE:20250309T020000
END:DAYLIGHT
END:VTIMEZONE
BEGIN:VEVENT
UID:71c56094-2cbf-4d94-a05b-544241f5bf7c
DTSTAMP:20260424T072128Z
DESCRIPTION:Party in the barn! What could possibly go wrong? More details t
 o come...watch our facebook page!
DTSTART;TZID=America/New_York:20240817T150000
DTEND;TZID=America/New_York:20240817T233000
LOCATION:Gerry Mullins's Estate\, 1351 W Carleton Rd\, Adrian\, MI 49221 US
SUMMARY:Class of 1989 Reunion
END:VEVENT
END:VCALENDAR
