BEGIN:VCALENDAR
VERSION:2.0
PRODID:-//adriansef.org//NONSGML kigkonsult.se iCalcreator 2.30.10//
CALSCALE:GREGORIAN
METHOD:PUBLISH
UID:c731457f-c7b5-444e-96da-4ca3f9bc7feb
X-WR-CALDESC:6:00 Social Hour\n6:30 Buffet\nCash Bar - DJ - Casual Attire\n
 We will have a casual gathering at ZZ's on Friday night @ 7:00. \nThere is
  also pickleball and golf gatherings on Saturday morning!
X-WR-RELCALID:99fcf41494e8a5db2413db924a2e0319
X-WR-TIMEZONE:America/New_York
BEGIN:VTIMEZONE
TZID:America/New_York
BEGIN:STANDARD
TZNAME:EST
DTSTART:20231105T020000
TZOFFSETFROM:-0400
TZOFFSETTO:-0500
RDATE:20241103T020000
RDATE:20251102T020000
END:STANDARD
BEGIN:DAYLIGHT
TZNAME:EDT
DTSTART:20240310T020000
TZOFFSETFROM:-0500
TZOFFSETTO:-0400
RDATE:20250309T020000
END:DAYLIGHT
END:VTIMEZONE
BEGIN:VEVENT
UID:acd9ee30-7ed0-46f9-b0f9-ef66164e7e9c
DTSTAMP:20260424T072000Z
DESCRIPTION:6:00 Social Hour\n6:30 Buffet\nCash Bar - DJ - Casual Attire\nW
 e will have a casual gathering at ZZ's on Friday night @ 7:00. \nThere is 
 also pickleball and golf gatherings on Saturday morning!
DTSTART;TZID=America/New_York:20240810T180000
DTEND;TZID=America/New_York:20240810T230000
LOCATION:Hills of Lenawee\, 4110 Country Club Rd\, Adrian\, MI 49221 US
SUMMARY:Class of 1974 50th Reunion
END:VEVENT
END:VCALENDAR
