BEGIN:VCALENDAR
VERSION:2.0
PRODID:-//adriansef.org//NONSGML kigkonsult.se iCalcreator 2.30.10//
CALSCALE:GREGORIAN
METHOD:PUBLISH
UID:1b1dd180-f33d-47e5-96e6-e7ea8baa0197
X-WR-CALDESC:
X-WR-RELCALID:00bac11dd425ea5cc07b81200960a52e
X-WR-TIMEZONE:America/New_York
BEGIN:VTIMEZONE
TZID:America/New_York
BEGIN:STANDARD
TZNAME:EST
DTSTART:20231105T020000
TZOFFSETFROM:-0400
TZOFFSETTO:-0500
RDATE:20241103T020000
RDATE:20251102T020000
END:STANDARD
BEGIN:DAYLIGHT
TZNAME:EDT
DTSTART:20240310T020000
TZOFFSETFROM:-0500
TZOFFSETTO:-0400
RDATE:20250309T020000
END:DAYLIGHT
END:VTIMEZONE
BEGIN:VEVENT
UID:fe326ca1-8d61-4061-bbb2-680b2f46c8a1
DTSTAMP:20260424T072000Z
DESCRIPTION:
DTSTART;TZID=America/New_York:20240803T060000
DTEND;TZID=America/New_York:20240803T060001
LOCATION:
SUMMARY:Class of 2004 Reunion
END:VEVENT
END:VCALENDAR
