BEGIN:VCALENDAR
VERSION:2.0
PRODID:-//adriansef.org//NONSGML kigkonsult.se iCalcreator 2.30.10//
CALSCALE:GREGORIAN
METHOD:PUBLISH
UID:8b13a84b-2584-4b4b-82be-f95f696ca6fa
X-WR-CALDESC:
X-WR-RELCALID:667d1137e4adf251a98a2d5334d8f5c3
X-WR-TIMEZONE:America/New_York
BEGIN:VTIMEZONE
TZID:America/New_York
BEGIN:STANDARD
TZNAME:EST
DTSTART:20231105T020000
TZOFFSETFROM:-0400
TZOFFSETTO:-0500
RDATE:20241103T020000
RDATE:20251102T020000
END:STANDARD
BEGIN:DAYLIGHT
TZNAME:EDT
DTSTART:20240310T020000
TZOFFSETFROM:-0500
TZOFFSETTO:-0400
RDATE:20250309T020000
END:DAYLIGHT
END:VTIMEZONE
BEGIN:VEVENT
UID:2a92d366-96da-4a2b-ad16-0850ebdbda46
DTSTAMP:20260424T072011Z
DESCRIPTION:
DTSTART;TZID=America/New_York:20240803T180000
DTEND;TZID=America/New_York:20240803T230000
LOCATION:Adrian High School Courtyard\, 785 Riverside Ave\, Adrian\, MI 492
 21 US
SUMMARY:Class of 1984 Reunion
END:VEVENT
END:VCALENDAR
