BEGIN:VCALENDAR
VERSION:2.0
PRODID:-//adriansef.org//NONSGML kigkonsult.se iCalcreator 2.30.10//
CALSCALE:GREGORIAN
METHOD:PUBLISH
UID:c54d1a71-c093-4137-a341-637ee98efb84
X-WR-CALDESC:Buffet style dinner & cash bar
X-WR-RELCALID:026d2826d7f4e7a7134bacb92dad869b
X-WR-TIMEZONE:America/New_York
BEGIN:VTIMEZONE
TZID:America/New_York
BEGIN:STANDARD
TZNAME:EST
DTSTART:20231105T020000
TZOFFSETFROM:-0400
TZOFFSETTO:-0500
RDATE:20241103T020000
RDATE:20251102T020000
END:STANDARD
BEGIN:DAYLIGHT
TZNAME:EDT
DTSTART:20240310T020000
TZOFFSETFROM:-0500
TZOFFSETTO:-0400
RDATE:20250309T020000
END:DAYLIGHT
END:VTIMEZONE
BEGIN:VEVENT
UID:9f0d40b6-3f05-4134-a779-6271d007db69
DTSTAMP:20260424T071724Z
DESCRIPTION:Buffet style dinner & cash bar
DTSTART;TZID=America/New_York:20240803T180000
DTEND;TZID=America/New_York:20240803T220000
LOCATION:ZZ's Bar & Grill @ Lenawee Rec\, 520 College Ave\, Adrian\, MI 492
 21 US
SUMMARY:Class of 1964 Reunion
END:VEVENT
END:VCALENDAR
