BEGIN:VCALENDAR
VERSION:2.0
PRODID:-//adriansef.org//NONSGML kigkonsult.se iCalcreator 2.30.10//
CALSCALE:GREGORIAN
METHOD:PUBLISH
UID:788e52ce-3d07-4d71-86ae-384f29fcb2ac
X-WR-CALDESC:
X-WR-RELCALID:9d6d01b2e7cbf8b389d4588e012200f7
X-WR-TIMEZONE:America/New_York
BEGIN:VTIMEZONE
TZID:America/New_York
BEGIN:STANDARD
TZNAME:EST
DTSTART:20231105T020000
TZOFFSETFROM:-0400
TZOFFSETTO:-0500
RDATE:20241103T020000
RDATE:20251102T020000
END:STANDARD
BEGIN:DAYLIGHT
TZNAME:EDT
DTSTART:20240310T020000
TZOFFSETFROM:-0500
TZOFFSETTO:-0400
RDATE:20250309T020000
END:DAYLIGHT
END:VTIMEZONE
BEGIN:VEVENT
UID:57a1bde0-4aac-4ffa-bb2d-8fe74f17267f
DTSTAMP:20260424T083206Z
DESCRIPTION:
DTSTART;TZID=America/New_York:20240720T060000
DTEND;TZID=America/New_York:20240720T060001
LOCATION:Hills of Lenawee\, 4110 Country Club Rd\, Adrian\, MI 49221 US
SUMMARY:Class of 1994 Reunion
END:VEVENT
END:VCALENDAR
