BEGIN:VCALENDAR
VERSION:2.0
PRODID:-//adriansef.org//NONSGML kigkonsult.se iCalcreator 2.30.10//
CALSCALE:GREGORIAN
METHOD:PUBLISH
UID:a5cc535e-053c-4488-b92d-93167fd53a66
X-WR-CALDESC:Every year the Foundation sponsors an Opening Night Reception 
 for the Adrian High School musical in the Julianne and George Argyros Perf
 orming Arts Center foyer. This year we are excited to support the AHS prod
 uction of The Addams Family (a musical comedy).\n\nThe Opening Night Recep
 tion is a wonderful time to catch up with community friends\, meet the act
 ors and enjoy a delicious buffet of hors d'oeuvres before admission to the
  show. Join us April 18\, 2024 @ 6:30pm. Your ticket includes the pre-show
  reception as well as entry into the show.\n\nProceeds from this opening g
 ala are targeted to the ASEF Classroom and Arts Grant funds.
X-WR-RELCALID:13e55dee909c8b96367189443b88cdb8
X-WR-TIMEZONE:America/New_York
BEGIN:VTIMEZONE
TZID:America/New_York
BEGIN:STANDARD
TZNAME:EST
DTSTART:20231105T020000
TZOFFSETFROM:-0400
TZOFFSETTO:-0500
RDATE:20241103T020000
END:STANDARD
BEGIN:DAYLIGHT
TZNAME:EDT
DTSTART:20240310T020000
TZOFFSETFROM:-0500
TZOFFSETTO:-0400
RDATE:20250309T020000
END:DAYLIGHT
END:VTIMEZONE
BEGIN:VEVENT
UID:ad6e5d5e-483e-4474-99c7-d0bf207a4fa6
DTSTAMP:20260424T123247Z
DESCRIPTION:Every year the Foundation sponsors an Opening Night Reception f
 or the Adrian High School musical in the Julianne and George Argyros Perfo
 rming Arts Center foyer. This year we are excited to support the AHS produ
 ction of The Addams Family (a musical comedy).\n\nThe Opening Night Recept
 ion is a wonderful time to catch up with community friends\, meet the acto
 rs and enjoy a delicious buffet of hors d'oeuvres before admission to the 
 show. Join us April 18\, 2024 @ 6:30pm. Your ticket includes the pre-show 
 reception as well as entry into the show.\n\nProceeds from this opening ga
 la are targeted to the ASEF Classroom and Arts Grant funds.
DTSTART;TZID=America/New_York:20240418T183000
DTEND;TZID=America/New_York:20240418T210000
LOCATION:Adrian High School\, 785 Riverside Ave\, Adrian\, MI 49221 US
SUMMARY:Spring Musical Reception
END:VEVENT
END:VCALENDAR
