BEGIN:VCALENDAR
VERSION:2.0
PRODID:-//adriansef.org//NONSGML kigkonsult.se iCalcreator 2.30.10//
CALSCALE:GREGORIAN
METHOD:PUBLISH
UID:fd632de3-ae23-4b93-abce-693385fb0295
X-WR-CALDESC:It's our TENTH annual Maple Blues Blast. An evening of FUN ded
 icated to supporting the Adrian Schools Educational Foundation and the Map
 le Fans Club. Get ready to go BIG! Get ready to give BIG!\n\nMore details 
 to come....
X-WR-RELCALID:87dd80fa7baba50a930e0af7234074b8
X-WR-TIMEZONE:America/New_York
BEGIN:VTIMEZONE
TZID:America/New_York
BEGIN:STANDARD
TZNAME:EST
DTSTART:20231105T020000
TZOFFSETFROM:-0400
TZOFFSETTO:-0500
RDATE:20241103T020000
END:STANDARD
BEGIN:DAYLIGHT
TZNAME:EDT
DTSTART:20230312T020000
TZOFFSETFROM:-0500
TZOFFSETTO:-0400
RDATE:20240310T020000
RDATE:20250309T020000
END:DAYLIGHT
END:VTIMEZONE
BEGIN:VEVENT
UID:39ecdfdd-627a-40e9-84e8-cc82e8534e2f
DTSTAMP:20260424T153549Z
DESCRIPTION:It's our TENTH annual Maple Blues Blast. An evening of FUN dedi
 cated to supporting the Adrian Schools Educational Foundation and the Mapl
 e Fans Club. Get ready to go BIG! Get ready to give BIG!\n\nMore details t
 o come....
DTSTART;TZID=America/New_York:20240224T190000
DTEND;TZID=America/New_York:20240224T230000
LOCATION:Adrian High School\, 785 Riverside Ave Ste 2\, Adrian\, MI 49221 U
 S
SUMMARY:Maple Blues Blast
END:VEVENT
END:VCALENDAR
