BEGIN:VCALENDAR
VERSION:2.0
PRODID:-//adriansef.org//NONSGML kigkonsult.se iCalcreator 2.30.10//
CALSCALE:GREGORIAN
METHOD:PUBLISH
UID:77e22f11-72a5-4070-8730-1bfa19bfed88
X-WR-CALDESC:Get out on that parade route and cheer on our Maples!!
X-WR-RELCALID:3cbcd75a2df76eaab1a41d8a65e472d4
X-WR-TIMEZONE:America/New_York
BEGIN:VTIMEZONE
TZID:America/New_York
BEGIN:STANDARD
TZNAME:EST
DTSTART:20221106T020000
TZOFFSETFROM:-0400
TZOFFSETTO:-0500
RDATE:20231105T020000
RDATE:20241103T020000
END:STANDARD
BEGIN:DAYLIGHT
TZNAME:EDT
DTSTART:20230312T020000
TZOFFSETFROM:-0500
TZOFFSETTO:-0400
RDATE:20240310T020000
RDATE:20250309T020000
END:DAYLIGHT
END:VTIMEZONE
BEGIN:VEVENT
UID:5ed0cdc4-5b84-4c6a-a163-cbeba2db0209
DTSTAMP:20260424T210503Z
DESCRIPTION:Get out on that parade route and cheer on our Maples!!
DTSTART;TZID=America/New_York:20231006T130000
DTEND;TZID=America/New_York:20231006T140000
LOCATION:From AHS to Springbrook to Race St to Maumee to McKenzie\, back to
  AHS
SUMMARY:Homecoming Parade
END:VEVENT
END:VCALENDAR
