BEGIN:VCALENDAR
VERSION:2.0
PRODID:-//adriansef.org//NONSGML kigkonsult.se iCalcreator 2.30.10//
CALSCALE:GREGORIAN
METHOD:PUBLISH
UID:66b85bda-be4f-43f7-9e64-895aec7ba694
X-WR-CALDESC:Come out and cheer on our Maples as they look to crush Pinckne
 y! Alumni are welcome to come by the alumni tent and enjoy FREE donuts and
  cider and connect with your fellow alumni. Enter to win some Maple swag!
X-WR-RELCALID:bb5944b38f804b4fba368cbe44774311
X-WR-TIMEZONE:America/New_York
BEGIN:VTIMEZONE
TZID:America/New_York
BEGIN:STANDARD
TZNAME:EST
DTSTART:20221106T020000
TZOFFSETFROM:-0400
TZOFFSETTO:-0500
RDATE:20231105T020000
RDATE:20241103T020000
END:STANDARD
BEGIN:DAYLIGHT
TZNAME:EDT
DTSTART:20230312T020000
TZOFFSETFROM:-0500
TZOFFSETTO:-0400
RDATE:20240310T020000
RDATE:20250309T020000
END:DAYLIGHT
END:VTIMEZONE
BEGIN:VEVENT
UID:ec94efa5-4e15-42ce-93ac-b1e777ce7b1a
DTSTAMP:20260424T210933Z
DESCRIPTION:Come out and cheer on our Maples as they look to crush Pinckney
 ! Alumni are welcome to come by the alumni tent and enjoy FREE donuts and 
 cider and connect with your fellow alumni. Enter to win some Maple swag!
DTSTART;TZID=America/New_York:20231006T190000
DTEND;TZID=America/New_York:20231006T213000
LOCATION:Maple Stadium\, Division St\, Adrian\, MI 49221 US
SUMMARY:Homecoming Football Game
END:VEVENT
END:VCALENDAR
