BEGIN:VCALENDAR
VERSION:2.0
PRODID:-//adriansef.org//NONSGML kigkonsult.se iCalcreator 2.30.10//
CALSCALE:GREGORIAN
METHOD:PUBLISH
UID:23a23581-ee84-4e22-98b7-de1ffd3f5dfd
X-WR-CALDESC:You don't want to miss our 16th annual Outstanding Awards Prog
 ram! A wonderful evening highlighting some of the very best that APS has t
 o offer in alumni and staff. Program starts at 7:00pm with a dessert recep
 tion following. Please follow the link for information and to RSVP for thi
 s free event!
X-WR-RELCALID:46e289f4a95488ca0cbd529f5d0d261e
X-WR-TIMEZONE:America/New_York
BEGIN:VTIMEZONE
TZID:America/New_York
BEGIN:STANDARD
TZNAME:EST
DTSTART:20221106T020000
TZOFFSETFROM:-0400
TZOFFSETTO:-0500
RDATE:20231105T020000
RDATE:20241103T020000
END:STANDARD
BEGIN:DAYLIGHT
TZNAME:EDT
DTSTART:20230312T020000
TZOFFSETFROM:-0500
TZOFFSETTO:-0400
RDATE:20240310T020000
RDATE:20250309T020000
END:DAYLIGHT
END:VTIMEZONE
BEGIN:VEVENT
UID:48344ab5-e169-42ee-82e6-29c13f49cfd3
DTSTAMP:20260424T211034Z
DESCRIPTION:You don't want to miss our 16th annual Outstanding Awards Progr
 am! A wonderful evening highlighting some of the very best that APS has to
  offer in alumni and staff. Program starts at 7:00pm with a dessert recept
 ion following. Please follow the link for information and to RSVP for this
  free event!
DTSTART;TZID=America/New_York:20231005T190000
DTEND;TZID=America/New_York:20231005T210000
LOCATION:Julianne & George Argyros Performing Arts Center @ AHS
SUMMARY:Outstanding Awards Program
END:VEVENT
END:VCALENDAR
