BEGIN:VCALENDAR
VERSION:2.0
PRODID:-//adriansef.org//NONSGML kigkonsult.se iCalcreator 2.30.10//
CALSCALE:GREGORIAN
METHOD:PUBLISH
UID:f6e8b873-5fe5-4d35-903f-ea0eaeb9dc4a
X-WR-CALDESC:One of the best weeks of every year! Maples are building float
 s\, dressing up for spirit days and campaigning for their favorite queen &
  king candidates! All the hype and energy culminates at the big Homecoming
  football game on Friday! Good times\, good times. \n\nAlumni\, staff and 
 community please join us on Thursday for our Outstanding Alumni & Outstand
 ing Teachers/Mentors program (click on the calendar entry for more info). 
 Also\, join in the fun for the homecoming parade and of course the homecom
 ing game on Friday!! Alumni will be treated with FREE donuts and cider in 
 the Alumni tent at the football game. Please stop by and say HI!!
X-WR-RELCALID:68b0f45e3a58271241c005ad3f670bf3
X-WR-TIMEZONE:America/New_York
BEGIN:VTIMEZONE
TZID:America/New_York
BEGIN:STANDARD
TZNAME:EST
DTSTART:20221106T020000
TZOFFSETFROM:-0400
TZOFFSETTO:-0500
RDATE:20231105T020000
RDATE:20241103T020000
END:STANDARD
BEGIN:DAYLIGHT
TZNAME:EDT
DTSTART:20230312T020000
TZOFFSETFROM:-0500
TZOFFSETTO:-0400
RDATE:20240310T020000
RDATE:20250309T020000
END:DAYLIGHT
END:VTIMEZONE
BEGIN:VEVENT
UID:531366b2-907d-4578-847f-26acff0acbcd
DTSTAMP:20260424T210539Z
DESCRIPTION:One of the best weeks of every year! Maples are building floats
 \, dressing up for spirit days and campaigning for their favorite queen & 
 king candidates! All the hype and energy culminates at the big Homecoming 
 football game on Friday! Good times\, good times. \n\nAlumni\, staff and c
 ommunity please join us on Thursday for our Outstanding Alumni & Outstandi
 ng Teachers/Mentors program (click on the calendar entry for more info). A
 lso\, join in the fun for the homecoming parade and of course the homecomi
 ng game on Friday!! Alumni will be treated with FREE donuts and cider in t
 he Alumni tent at the football game. Please stop by and say HI!!
DTSTART;TZID=America/New_York:20231002T000000
DTEND;TZID=America/New_York:20231006T235900
LOCATION:
SUMMARY:Homecoming Week!
END:VEVENT
END:VCALENDAR
