BEGIN:VCALENDAR
VERSION:2.0
PRODID:-//adriansef.org//NONSGML kigkonsult.se iCalcreator 2.30.10//
CALSCALE:GREGORIAN
METHOD:PUBLISH
UID:9a39263f-7d3e-409a-abde-98b9800ed2ce
X-WR-CALDESC:Please join the Adrian Schools Educational Foundation for our 
 annual Spring Musical Reception fundraiser. You will have the opportunity 
 to socialize with fellow community members while you enjoy hors d'oeuvres 
 and a brief interaction with cast members before the opening night perform
 ance of The Drowsy Chaperone. Your ticket also provides you admission to t
 he show.
X-WR-RELCALID:8a14ccbb5d700a9dcec22f6817a231ff
X-WR-TIMEZONE:America/New_York
BEGIN:VTIMEZONE
TZID:America/New_York
BEGIN:STANDARD
TZNAME:EST
DTSTART:20221106T020000
TZOFFSETFROM:-0400
TZOFFSETTO:-0500
RDATE:20231105T020000
END:STANDARD
BEGIN:DAYLIGHT
TZNAME:EDT
DTSTART:20230312T020000
TZOFFSETFROM:-0500
TZOFFSETTO:-0400
RDATE:20240310T020000
END:DAYLIGHT
END:VTIMEZONE
BEGIN:VEVENT
UID:2b652c8e-87c6-4e36-9dce-00878044e7ea
DTSTAMP:20260425T041056Z
DESCRIPTION:Please join the Adrian Schools Educational Foundation for our a
 nnual Spring Musical Reception fundraiser. You will have the opportunity t
 o socialize with fellow community members while you enjoy hors d'oeuvres a
 nd a brief interaction with cast members before the opening night performa
 nce of The Drowsy Chaperone. Your ticket also provides you admission to th
 e show.
DTSTART;TZID=America/New_York:20230504T183000
DTEND;TZID=America/New_York:20230504T193000
LOCATION:Adrian High School Theater Foyer
SUMMARY:Spring Musical Reception
END:VEVENT
END:VCALENDAR
