BEGIN:VCALENDAR
VERSION:2.0
PRODID:-//adriansef.org//NONSGML kigkonsult.se iCalcreator 2.30.10//
CALSCALE:GREGORIAN
METHOD:PUBLISH
UID:f5889623-edf2-401c-966c-0c1607db32fa
X-WR-CALDESC:6:00 pm until the party dies!
X-WR-RELCALID:0cab8ff5089f5486837fc4e39e8e1ab3
X-WR-TIMEZONE:America/New_York
BEGIN:VTIMEZONE
TZID:America/New_York
BEGIN:STANDARD
TZNAME:EST
DTSTART:20211107T020000
TZOFFSETFROM:-0400
TZOFFSETTO:-0500
RDATE:20221106T020000
RDATE:20231105T020000
END:STANDARD
BEGIN:DAYLIGHT
TZNAME:EDT
DTSTART:20220313T020000
TZOFFSETFROM:-0500
TZOFFSETTO:-0400
RDATE:20230312T020000
RDATE:20240310T020000
END:DAYLIGHT
END:VTIMEZONE
BEGIN:VEVENT
UID:59f2a3d5-f19e-4fa3-bcfb-6eeb5c2e5a84
DTSTAMP:20260425T140103Z
DESCRIPTION:6:00 pm until the party dies!
DTSTART;TZID=America/New_York:20221015T000000
DTEND;TZID=America/New_York:20221015T235900
LOCATION:ZZ's\, 520 College Ave\, Adrian\, MI 49221 US
SUMMARY:Class of 1997 Reunion
END:VEVENT
END:VCALENDAR
