BEGIN:VCALENDAR
VERSION:2.0
PRODID:-//adriansef.org//NONSGML kigkonsult.se iCalcreator 2.30.10//
CALSCALE:GREGORIAN
METHOD:PUBLISH
UID:5f306d48-c5b9-491a-9f1a-8c1876bf1fee
X-WR-CALDESC:Details are coming! Plan on a tour of AHS and a great party!!
X-WR-RELCALID:9828454df14622311be7f83438920a7a
X-WR-TIMEZONE:America/New_York
BEGIN:VTIMEZONE
TZID:America/New_York
BEGIN:STANDARD
TZNAME:EST
DTSTART:20211107T020000
TZOFFSETFROM:-0400
TZOFFSETTO:-0500
RDATE:20221106T020000
RDATE:20231105T020000
END:STANDARD
BEGIN:DAYLIGHT
TZNAME:EDT
DTSTART:20220313T020000
TZOFFSETFROM:-0500
TZOFFSETTO:-0400
RDATE:20230312T020000
RDATE:20240310T020000
END:DAYLIGHT
END:VTIMEZONE
BEGIN:VEVENT
UID:b91366cd-c2e1-4dcf-bed3-76bf722d09f8
DTSTAMP:20260425T140531Z
DESCRIPTION:Details are coming! Plan on a tour of AHS and a great party!!
DTSTART;TZID=America/New_York:20221015T000000
DTEND;TZID=America/New_York:20221015T235900
LOCATION:Hills of Lenawee\, 4110 Country Club Rd\, Adrian\, MI 49221
SUMMARY:Class of 1972 - 50th Reunion!
END:VEVENT
END:VCALENDAR
