BEGIN:VCALENDAR
VERSION:2.0
PRODID:-//adriansef.org//NONSGML kigkonsult.se iCalcreator 2.30.10//
CALSCALE:GREGORIAN
METHOD:PUBLISH
UID:e8adf90d-bd3d-4276-8851-73a0eeeffe21
X-WR-CALDESC:You know the deal:\n  Parade in the afternoon\n  Football game
  in the evening\n\nStop by the Alumni tent at the game for your FREE donut
  and cider (IF you're an AHS grad).
X-WR-RELCALID:05ba32b3b38fed35f735bda983700359
X-WR-TIMEZONE:America/New_York
BEGIN:VTIMEZONE
TZID:America/New_York
BEGIN:STANDARD
TZNAME:EST
DTSTART:20211107T020000
TZOFFSETFROM:-0400
TZOFFSETTO:-0500
RDATE:20221106T020000
RDATE:20231105T020000
END:STANDARD
BEGIN:DAYLIGHT
TZNAME:EDT
DTSTART:20220313T020000
TZOFFSETFROM:-0500
TZOFFSETTO:-0400
RDATE:20230312T020000
RDATE:20240310T020000
END:DAYLIGHT
END:VTIMEZONE
BEGIN:VEVENT
UID:6fbb2d41-ea68-45aa-8b89-81541a625d8b
DTSTAMP:20260425T140229Z
DESCRIPTION:You know the deal:\n  Parade in the afternoon\n  Football game 
 in the evening\n\nStop by the Alumni tent at the game for your FREE donut 
 and cider (IF you're an AHS grad).
DTSTART;TZID=America/New_York:20221014T000000
DTEND;TZID=America/New_York:20221014T235900
LOCATION:
SUMMARY:HOMECOMING!
END:VEVENT
END:VCALENDAR
