BEGIN:VCALENDAR
VERSION:2.0
PRODID:-//adriansef.org//NONSGML kigkonsult.se iCalcreator 2.30.10//
CALSCALE:GREGORIAN
METHOD:PUBLISH
UID:a239e23e-c1dd-4459-96e1-f9d1fe8619ed
X-WR-CALDESC:Our annual Outstanding Awards ceremony that hits all the feels
  and overflows with Maple Spirit! Please join us when we celebrate the ver
 y best of APS.\n\nWinners of this year's awards will be announced late sum
 mer 2022
X-WR-RELCALID:74a12f0ab5cc2513d8e2aa7f9e5b633f
X-WR-TIMEZONE:America/New_York
BEGIN:VTIMEZONE
TZID:America/New_York
BEGIN:STANDARD
TZNAME:EST
DTSTART:20211107T020000
TZOFFSETFROM:-0400
TZOFFSETTO:-0500
RDATE:20221106T020000
RDATE:20231105T020000
END:STANDARD
BEGIN:DAYLIGHT
TZNAME:EDT
DTSTART:20220313T020000
TZOFFSETFROM:-0500
TZOFFSETTO:-0400
RDATE:20230312T020000
RDATE:20240310T020000
END:DAYLIGHT
END:VTIMEZONE
BEGIN:VEVENT
UID:00cf5325-1389-4d0d-a1d3-b73c62833802
DTSTAMP:20260425T140107Z
DESCRIPTION:Our annual Outstanding Awards ceremony that hits all the feels 
 and overflows with Maple Spirit! Please join us when we celebrate the very
  best of APS.\n\nWinners of this year's awards will be announced late summ
 er 2022
DTSTART;TZID=America/New_York:20221013T190000
DTEND;TZID=America/New_York:20221013T210000
LOCATION:AHS Performing Arts Center\, 785 Riverside Ave Ste 2\, Adrian\, MI
  49221 US
SUMMARY:Outstanding Alumni & Teacher/Mentor Awards
END:VEVENT
END:VCALENDAR
