BEGIN:VCALENDAR
VERSION:2.0
PRODID:-//adriansef.org//NONSGML kigkonsult.se iCalcreator 2.30.10//
CALSCALE:GREGORIAN
METHOD:PUBLISH
UID:4caa6025-15de-4448-962c-0de52653178a
X-WR-CALDESC:$25/person. Buffet Dinner. Dress 'Very' Casual\nPlease RSVP by
  August 1st\nMake checks payable to 'AHS Class of 1967'\nMail to:\nPam Pat
 h\n2601 Spielman Rd\nAdrian\, MI 49221
X-WR-RELCALID:7205d7c8a2103e41ec8f6d5b548dfde7
X-WR-TIMEZONE:America/New_York
BEGIN:VTIMEZONE
TZID:America/New_York
BEGIN:STANDARD
TZNAME:EST
DTSTART:20211107T020000
TZOFFSETFROM:-0400
TZOFFSETTO:-0500
RDATE:20221106T020000
RDATE:20231105T020000
END:STANDARD
BEGIN:DAYLIGHT
TZNAME:EDT
DTSTART:20220313T020000
TZOFFSETFROM:-0500
TZOFFSETTO:-0400
RDATE:20230312T020000
RDATE:20240310T020000
END:DAYLIGHT
END:VTIMEZONE
BEGIN:VEVENT
UID:47a69963-4a28-427a-9b67-0dcc60a43a70
DTSTAMP:20260425T153243Z
DESCRIPTION:$25/person. Buffet Dinner. Dress 'Very' Casual\nPlease RSVP by 
 August 1st\nMake checks payable to 'AHS Class of 1967'\nMail to:\nPam Path
 \n2601 Spielman Rd\nAdrian\, MI 49221
DTSTART;TZID=America/New_York:20220910T170000
DTEND;TZID=America/New_York:20220910T220000
LOCATION:Knights of Columbus Hall\, 3375 Treat Hwy Adrian
SUMMARY:Class of 1967 Reunion
END:VEVENT
END:VCALENDAR
