BEGIN:VCALENDAR
VERSION:2.0
PRODID:-//adriansef.org//NONSGML kigkonsult.se iCalcreator 2.30.10//
CALSCALE:GREGORIAN
METHOD:PUBLISH
UID:c13957f8-9935-4622-8ef6-49086904e96b
X-WR-CALDESC:
X-WR-RELCALID:9b55f8b26d1068a9aea54ee403369ca7
X-WR-TIMEZONE:America/New_York
BEGIN:VTIMEZONE
TZID:America/New_York
BEGIN:STANDARD
TZNAME:EST
DTSTART:20211107T020000
TZOFFSETFROM:-0400
TZOFFSETTO:-0500
RDATE:20221106T020000
RDATE:20231105T020000
END:STANDARD
BEGIN:DAYLIGHT
TZNAME:EDT
DTSTART:20220313T020000
TZOFFSETFROM:-0500
TZOFFSETTO:-0400
RDATE:20230312T020000
END:DAYLIGHT
END:VTIMEZONE
BEGIN:VEVENT
UID:8b5188fa-37cc-457c-adeb-1c7110f4f270
DTSTAMP:20260425T170424Z
DESCRIPTION:
DTSTART;TZID=America/New_York:20220806T170000
DTEND;TZID=America/New_York:20220807T210000
LOCATION:Hills of Lenawee\, 4110 Country Club Rd\, Adrian\, MI 49221
SUMMARY:Class of 2002 Reunion
END:VEVENT
END:VCALENDAR
