BEGIN:VCALENDAR
VERSION:2.0
PRODID:-//adriansef.org//NONSGML kigkonsult.se iCalcreator 2.30.10//
CALSCALE:GREGORIAN
METHOD:PUBLISH
UID:f96986be-9c72-4fb6-8365-d2ed7961921e
X-WR-CALDESC:We are thrilled to be once again hosting an IN PERSON Maple Bl
 ues Blast. This year we will celebrate Mardi Gras with a Louisiana inspire
 d dinner buffet along with our usual raffles\, auctions and fun\, fun\, FU
 N!
X-WR-RELCALID:e4f25f46734b04dcd4cdb3c22d8b5f43
X-WR-TIMEZONE:America/New_York
BEGIN:VTIMEZONE
TZID:America/New_York
BEGIN:STANDARD
TZNAME:EST
DTSTART:20211107T020000
TZOFFSETFROM:-0400
TZOFFSETTO:-0500
RDATE:20221106T020000
END:STANDARD
BEGIN:DAYLIGHT
TZNAME:EDT
DTSTART:20210314T020000
TZOFFSETFROM:-0500
TZOFFSETTO:-0400
RDATE:20220313T020000
RDATE:20230312T020000
END:DAYLIGHT
END:VTIMEZONE
BEGIN:VEVENT
UID:01bb6d2f-485a-4d1a-8e54-91e35b62d12c
DTSTAMP:20260426T013646Z
DESCRIPTION:We are thrilled to be once again hosting an IN PERSON Maple Blu
 es Blast. This year we will celebrate Mardi Gras with a Louisiana inspired
  dinner buffet along with our usual raffles\, auctions and fun\, fun\, FUN
 !
DTSTART;TZID=America/New_York:20220226T180000
DTEND;TZID=America/New_York:20220226T230000
LOCATION:Adrian High School\, 785 Riverside Ave Ste 2\, Adrian\, MI 49221 U
 S
SUMMARY:Maple Blues Blast - Maple Mardi Gras!
END:VEVENT
END:VCALENDAR
